BEGIN:VCALENDAR
PRODID:-//github.com/rianjs/ical.net//NONSGML ical.net 4.0//EN
VERSION:2.0
BEGIN:VEVENT
DESCRIPTION:Details:\nhttps://bbyo.org/bbyo-near-you/regions/michigan-regi
 on/chapter-calendaring-day
DTEND:20230606T190000
DTSTAMP:20260423T002458Z
DTSTART:20230606T170000
LOCATION:Farmington Hills Michigan
SEQUENCE:0
SUMMARY:Chapter Calendaring Day
UID:d5c1ae74-2822-4889-9c21-1885fa5369aa
END:VEVENT
END:VCALENDAR
