BEGIN:VCALENDAR
PRODID:-//github.com/rianjs/ical.net//NONSGML ical.net 4.0//EN
VERSION:2.0
BEGIN:VEVENT
DESCRIPTION:Details:\nhttps://bbyo.org/bbyo-near-you/regions/north-texas-o
 klahoma-region/b-yachad-concention-steering-meeting
DTEND:20221023T150000
DTSTAMP:20260423T114341Z
DTSTART:20221023T130000
LOCATION:Dallas Texas
SEQUENCE:0
SUMMARY:B'yachad Concention Steering Meeting
UID:344808d5-f032-4b75-ba28-c1316f2d4101
END:VEVENT
END:VCALENDAR
