BEGIN:VCALENDAR
PRODID:-//github.com/rianjs/ical.net//NONSGML ical.net 4.0//EN
VERSION:2.0
BEGIN:VEVENT
DESCRIPTION:Details:\nhttps://bbyo.org/bbyo-near-you/regions/nassau-suffol
 k-region/nsr-adventureland-kickoff
DTEND:20221015T210000
DTSTAMP:20260425T201619Z
DTSTART:20221015T180000
LOCATION:Farmingdale New York
SEQUENCE:0
SUMMARY:NSR Adventureland Kickoff
UID:15cf27e1-a464-47ea-b133-fd1b618325f3
END:VEVENT
END:VCALENDAR
