BEGIN:VCALENDAR
PRODID:-//github.com/rianjs/ical.net//NONSGML ical.net 4.0//EN
VERSION:2.0
BEGIN:VEVENT
DESCRIPTION:Details:\nhttps://bbyo.org/bbyo-near-you/regions/northern-regi
 on-east-dc-council/dc-council-spirit-day-day-of-registrants
DTEND:20220403T160000
DTSTAMP:20260424T105646Z
DTSTART:20220403T130000
LOCATION:
SEQUENCE:0
SUMMARY:DC Council Spirit Day-Day of Registrants
UID:01b853b0-08e3-41a0-9f26-a31262624686
END:VEVENT
END:VCALENDAR
