BEGIN:VCALENDAR
PRODID:-//github.com/rianjs/ical.net//NONSGML ical.net 4.0//EN
VERSION:2.0
BEGIN:VEVENT
DESCRIPTION:Details:\nhttps://bbyo.org/bbyo-near-you/regions/ohio-northern
 -region/joint-city-fun-@-dave-busters\n\nSummary:\nJoin us for a jointy-c
 ity event at Dave & Busters in Canton!
DTEND:20200223T160000
DTSTAMP:20260422T221712Z
DTSTART:20200223T133000
LOCATION:Dave & Busters in Canton
SEQUENCE:0
SUMMARY:Joint-City Fun @ Dave & Busters
UID:d5cac495-a713-4375-98d1-ea949937fb80
END:VEVENT
END:VCALENDAR
