BEGIN:VCALENDAR
PRODID:-//github.com/rianjs/ical.net//NONSGML ical.net 4.0//EN
VERSION:2.0
BEGIN:VEVENT
DESCRIPTION:Details:\nhttps://bbyo.org/bbyo-near-you/regions/hudson-valley
 -region/b-accepted-college-initiative-program\n\nSummary:\nCollege Initia
 tive program for high school sophomores & juniors to meet current college
  students\, ask questions\, and get answers. There will also be a rep fro
 m the princeton review there as
DTEND:20060326T183000
DTSTAMP:20260422T084850Z
DTSTART:20060326T170000
LOCATION:Papa Razzi Restaurant
SEQUENCE:0
SUMMARY:B-accepted College Initiative Program
UID:41f38d24-4283-4162-8cc4-292312d6c28b
END:VEVENT
END:VCALENDAR
