BEGIN:VCALENDAR
PRODID:-//github.com/rianjs/ical.net//NONSGML ical.net 4.0//EN
VERSION:2.0
BEGIN:VEVENT
DESCRIPTION:Details:\nhttps://bbyo.org/bbyo-near-you/regions/ohio-northern
 -region/bbyo-connect-limo-scavenger-hunt
DTEND:20161218T150000
DTSTAMP:20260425T183201Z
DTSTART:20161218T130000
LOCATION:Mandel JCC
SEQUENCE:0
SUMMARY:BBYO Connect Limo Scavenger Hunt
UID:61d039d7-c902-49d7-8dc1-689695f86c11
END:VEVENT
END:VCALENDAR
