BEGIN:VCALENDAR
PRODID:-//github.com/rianjs/ical.net//NONSGML ical.net 4.0//EN
VERSION:2.0
BEGIN:VEVENT
DESCRIPTION:Details:\nhttps://bbyo.org/bbyo-near-you/regions/nassau-suffol
 k-region/sisterhood-overnight-2006\n\nSummary:\nA fun overnight filled wi
 th crafts\, music & much more!! Get a chance to meet\, relate & bond with
  fellow Jewish high school girls.
DTEND;VALUE=DATE:20060305
DTSTAMP:20260420T103348Z
DTSTART;VALUE=DATE:20060304
LOCATION:Homewood Suites
SEQUENCE:0
SUMMARY:Sisterhood Overnight 2006
UID:92eec7c2-71c9-49a8-bd0e-45dcac63bf71
END:VEVENT
END:VCALENDAR
