BEGIN:VCALENDAR
PRODID:-//github.com/rianjs/ical.net//NONSGML ical.net 4.0//EN
VERSION:2.0
BEGIN:VEVENT
DESCRIPTION:Details:\nhttps://bbyo.org/bbyo-near-you/regions/michigan-regi
 on/bookstock-volunteering
DTEND:20230205T163000
DTSTAMP:20260420T082533Z
DTSTART:20230205T143000
LOCATION:Congregation Beth Ahm
SEQUENCE:0
SUMMARY:Bookstock Volunteering
UID:0b2ba007-966a-4ed4-961f-7d050e8b8f08
END:VEVENT
END:VCALENDAR
