BEGIN:VCALENDAR
PRODID:-//github.com/rianjs/ical.net//NONSGML ical.net 4.0//EN
VERSION:2.0
BEGIN:VEVENT
DESCRIPTION:Details:\nhttps://bbyo.org/bbyo-near-you/regions/great-midwest
 -region/test-event
DTEND;VALUE=DATE:20200425
DTSTAMP:20260420T153704Z
DTSTART;VALUE=DATE:20200424
LOCATION:
SEQUENCE:0
SUMMARY:test event
UID:36418b5b-6e91-4eda-98ac-f78a5c88a954
END:VEVENT
END:VCALENDAR
