BEGIN:VCALENDAR
PRODID:-//github.com/rianjs/ical.net//NONSGML ical.net 4.0//EN
VERSION:2.0
BEGIN:VEVENT
DESCRIPTION:Details:\nhttps://bbyo.org/bbyo-near-you/regions/big-apple-reg
 ion/rlti-2015-(pc3000)\n\nSummary:\nRegional Leadership Training Institut
 e is a time for teens to come together and learn how to be a great leader
  for Big Apple Region! All are welcome and encouraged to join\, especiall
 y those
DTEND;VALUE=DATE:20150823
DTSTAMP:20260425T235408Z
DTSTART:20150821T100000
LOCATION:Sheraton Hotel
SEQUENCE:0
SUMMARY:RLTI 2015 (PC3000)
UID:1fbb2920-74fe-4de9-9701-ea85a8c2ab15
END:VEVENT
END:VCALENDAR
