BEGIN:VCALENDAR
PRODID:-//github.com/rianjs/ical.net//NONSGML ical.net 4.0//EN
VERSION:2.0
BEGIN:VEVENT
DESCRIPTION:Details:\nhttps://bbyo.org/bbyo-near-you/regions/rocky-mountai
 n-region/bbg-rosh-chodesh-club-2
DTEND:20060928T190000
DTSTAMP:20260425T182753Z
DTSTART:20060928T173000
LOCATION:Denver
SEQUENCE:0
SUMMARY:BBG Rosh Chodesh Club #2
UID:357b8dff-3132-4128-89b1-f3a8f0096ff1
END:VEVENT
END:VCALENDAR
