BEGIN:VCALENDAR
PRODID:-//github.com/rianjs/ical.net//NONSGML ical.net 4.0//EN
VERSION:2.0
BEGIN:VEVENT
DESCRIPTION:Details:\nhttps://bbyo.org/bbyo-near-you/regions/greater-jerse
 y-region/spirit-weekend-(1)\n\nSummary:\nSpirit weekend is split into GJH
 RR's two councils (Northern and Central) and it is a giant chapter compet
 ition in song\, skit\, cheer\, banner\, clothes etc. This is one of the c
 onventions that
DTEND:20051211T150000
DTSTAMP:20260421T043653Z
DTSTART:20051209T170000
LOCATION:North and Central
SEQUENCE:0
SUMMARY:Spirit Weekend
UID:caef08bf-fac4-48c3-9da2-3eb8558bd2d6
END:VEVENT
END:VCALENDAR
