BEGIN:VCALENDAR
PRODID:-//github.com/rianjs/ical.net//NONSGML ical.net 4.0//EN
VERSION:2.0
BEGIN:VEVENT
DESCRIPTION:Details:\nhttps://bbyo.org/bbyo-near-you/regions/ohio-northern
 -region/kallah-convention-chofesh-orange-village-park\n\nSummary:\nFor te
 ens located in the Orange Village area. Must be registered for Kallah to 
 attend.
DTEND:20201114T194500
DTSTAMP:20260425T200450Z
DTSTART:20201114T183000
LOCATION:Orange Village Ohio
SEQUENCE:0
SUMMARY:Kallah Convention Chofesh - Orange Village Park
UID:6112d3e2-eaee-497d-aa0a-75c5e0f2e928
END:VEVENT
END:VCALENDAR
