BEGIN:VCALENDAR
PRODID:-//github.com/rianjs/ical.net//NONSGML ical.net 4.0//EN
VERSION:2.0
BEGIN:VEVENT
DESCRIPTION:Details:\nhttps://bbyo.org/bbyo-near-you/regions/hudson-valley
 -region/westchester-transportation-from-ic-baltimore-t-(1)\n\nSummary:\nI
 C Bus Transportation from Baltimore to Westchester.
DTEND;VALUE=DATE:20160215
DTSTAMP:20260423T132001Z
DTSTART;VALUE=DATE:20150211
LOCATION:JCC Mid-Westchester
SEQUENCE:0
SUMMARY:Westchester Transportation from IC- Baltimore to WCHR
UID:82539014-569f-4555-83cb-845a4d8c3256
END:VEVENT
END:VCALENDAR
