BEGIN:VCALENDAR
PRODID:-//github.com/rianjs/ical.net//NONSGML ical.net 4.0//EN
VERSION:2.0
BEGIN:VEVENT
DESCRIPTION:Details:\nhttps://bbyo.org/bbyo-near-you/regions/gold-coast-re
 gion/boynton-jcc-x-bbyo-camp-visit
DTEND:20240625T120000
DTSTAMP:20260424T092343Z
DTSTART:20240625T110000
LOCATION:Boynton JCC
SEQUENCE:0
SUMMARY:Boynton JCC x BBYO Camp Visit
UID:644713cd-fb76-4be5-8a77-654f8dd30343
END:VEVENT
END:VCALENDAR
