BEGIN:VCALENDAR
PRODID:-//github.com/rianjs/ical.net//NONSGML ical.net 4.0//EN
VERSION:2.0
BEGIN:VEVENT
DESCRIPTION:Details:\nhttps://bbyo.org/bbyo-near-you/regions/new-england-r
 egion/ner-senior-activity\n\nSummary:\nSeniors\, it's your time to celebr
 ate! We have a fun few hours planned for you with some suprises and a lot
  of laughs! Come ready to share BBYO memories and dress in your best outd
 oor picnic
DTEND:20210523T143000
DTSTAMP:20260419T213553Z
DTSTART:20210523T121500
LOCATION:Needham Massachusetts
SEQUENCE:0
SUMMARY:NER Senior Activity
UID:9164a53a-7258-46ed-85bf-c3f17d4a1b73
END:VEVENT
END:VCALENDAR
