BEGIN:VCALENDAR
PRODID:-//github.com/rianjs/ical.net//NONSGML ical.net 4.0//EN
VERSION:2.0
BEGIN:VEVENT
DESCRIPTION:Details:\nhttps://bbyo.org/bbyo-near-you/regions/lake-ontario-
 region/floor-hockey
DTEND:20060522T200000
DTSTAMP:20260422T054624Z
DTSTART:20050913T180000
LOCATION:
SEQUENCE:0
SUMMARY:Floor Hockey
UID:6d043123-6ecd-4313-bcb3-3b888025ecf0
END:VEVENT
END:VCALENDAR
