BEGIN:VCALENDAR
PRODID:-//github.com/rianjs/ical.net//NONSGML ical.net 4.0//EN
VERSION:2.0
BEGIN:VEVENT
DESCRIPTION:Details:\nhttps://bbyo.org/bbyo-near-you/regions/connecticut-v
 alley-region/cvr-spring-kallah-4-to-a-room
DTEND:20220508T130000
DTSTAMP:20260423T002414Z
DTSTART:20220506T160000
LOCATION:
SEQUENCE:0
SUMMARY:CVR Spring Kallah 4 to a room
UID:0a7c862a-6226-49af-b78e-72b515bd1bdc
END:VEVENT
END:VCALENDAR
