BEGIN:VCALENDAR
PRODID:-//github.com/rianjs/ical.net//NONSGML ical.net 4.0//EN
VERSION:2.0
BEGIN:VEVENT
DESCRIPTION:Details:\nhttps://bbyo.org/bbyo-near-you/regions/michigan-regi
 on/mockingjay-michigan-(1)
DTEND;VALUE=DATE:20151119
DTSTAMP:20260423T114513Z
DTSTART;VALUE=DATE:20151119
LOCATION:
SEQUENCE:0
SUMMARY:Mockingjay Michigan
UID:7b3a118e-f5bd-4fba-8004-509da61680f7
END:VEVENT
END:VCALENDAR
