BEGIN:VCALENDAR
PRODID:-//github.com/rianjs/ical.net//NONSGML ical.net 4.0//EN
VERSION:2.0
BEGIN:VEVENT
DESCRIPTION:Details:\nhttps://bbyo.org/bbyo-near-you/regions/northern-regi
 on-east-dc-council/nretreat-dc-cobo-training
DTEND:20200829T163000
DTSTAMP:20260423T200441Z
DTSTART:20200829T140000
LOCATION:DC Council Office
SEQUENCE:0
SUMMARY:NREtreat DC Cobo Training
UID:304e5133-af5c-4b97-89fc-fb4fa9ac8e32
END:VEVENT
END:VCALENDAR
