BEGIN:VCALENDAR
PRODID:-//github.com/rianjs/ical.net//NONSGML ical.net 4.0//EN
VERSION:2.0
BEGIN:VEVENT
DESCRIPTION:Details:\nhttps://bbyo.org/bbyo-near-you/regions/lonestar-regi
 on/capital-fall-term-elections
DTEND:20240519T180000
DTSTAMP:20260424T062455Z
DTSTART:20240519T150000
LOCATION:Shalom Austin | AJA
SEQUENCE:0
SUMMARY:Capital Fall Term Elections
UID:994edd91-0065-43e7-8d5f-ee1599ef3b93
END:VEVENT
END:VCALENDAR
