BEGIN:VCALENDAR
PRODID:-//github.com/rianjs/ical.net//NONSGML ical.net 4.0//EN
VERSION:2.0
BEGIN:VEVENT
DESCRIPTION:Details:\nhttps://bbyo.org/bbyo-near-you/regions/northern-regi
 on-east-dc-council/dc-olympics-(azaa-bbgg)
DTEND:20221106T170000
DTSTAMP:20260423T201902Z
DTSTART:20221106T110000
LOCATION:Bender JCC
SEQUENCE:0
SUMMARY:DC Olympics (AZAA & BBGG)
UID:cf37da2a-3023-4e73-b99b-0cbb19e90af0
END:VEVENT
END:VCALENDAR
