BEGIN:VCALENDAR
PRODID:-//github.com/rianjs/ical.net//NONSGML ical.net 4.0//EN
VERSION:2.0
BEGIN:VEVENT
DESCRIPTION:Details:\nhttps://bbyo.org/bbyo-near-you/regions/northern-regi
 on-east-northern-virginia-council/j-serve
DTEND:20190407T150000
DTSTAMP:20260423T002001Z
DTSTART:20190407T120000
LOCATION:
SEQUENCE:0
SUMMARY:J-Serve
UID:9a92923e-45bf-4d5f-ae02-7984f0c20f8f
END:VEVENT
END:VCALENDAR
