BEGIN:VCALENDAR
PRODID:-//github.com/rianjs/ical.net//NONSGML ical.net 4.0//EN
VERSION:2.0
BEGIN:VEVENT
DESCRIPTION:Details:\nhttps://bbyo.org/bbyo-near-you/regions/nassau-suffol
 k-region/nsr-rosh-hashanah
DTEND;VALUE=DATE:20150914
DTSTAMP:20260421T073200Z
DTSTART;VALUE=DATE:20150914
LOCATION:
SEQUENCE:0
SUMMARY:NSR Rosh Hashanah
UID:7e024ad2-bc10-4553-b8af-52d771334711
END:VEVENT
END:VCALENDAR
