BEGIN:VCALENDAR
PRODID:-//github.com/rianjs/ical.net//NONSGML ical.net 4.0//EN
VERSION:2.0
BEGIN:VEVENT
DESCRIPTION:Details:\nhttps://bbyo.org/bbyo-near-you/regions/delta-region/
 memphis-bbyo-labor-day-cookout\n\nSummary:\nMemphis BBYO Labor Day Cookou
 t\n\nKosher Hot Dogs\, Non Dairy Mempops\, Drinks and Games! \n\nRSVP for
  free! Memphis BBYO Labor Day Cookout\n\nKosher Hot Dogs\, Non Dairy Memp
 ops\, Drinks and Games! \n\nRSVP for free!
DTEND:20180903T180000
DTSTAMP:20260425T220242Z
DTSTART:20180903T160000
LOCATION:Germantown Tennessee
SEQUENCE:0
SUMMARY:Memphis BBYO Labor Day Cookout
UID:056059cb-00c0-4144-a343-84789fc878ae
END:VEVENT
END:VCALENDAR
