BEGIN:VCALENDAR
PRODID:-//github.com/rianjs/ical.net//NONSGML ical.net 4.0//EN
VERSION:2.0
BEGIN:VEVENT
DESCRIPTION:Details:\nhttps://bbyo.org/bbyo-near-you/regions/new-england-r
 egion/south-shore-community-action-day\n\nSummary:\nGive back to the loca
 l community! Come make lasagnas and sandwiches to be donated to Mainsprin
 g in Brockton\, MA with teens in 7th - 12th grade.
DTEND:20210516T160000
DTSTAMP:20260424T145730Z
DTSTART:20210516T120000
LOCATION:Sharon Massachusetts
SEQUENCE:0
SUMMARY:South Shore Community Action Day
UID:64eb807d-e14a-4a00-930a-12b6b2d0ac58
END:VEVENT
END:VCALENDAR
