BEGIN:VCALENDAR
PRODID:-//github.com/rianjs/ical.net//NONSGML ical.net 4.0//EN
VERSION:2.0
BEGIN:VEVENT
DESCRIPTION:Details:\nhttps://bbyo.org/bbyo-near-you/regions/north-texas-o
 klahoma-region/ralph-berets/berets-cooking-class
DTEND:20230204T210000
DTSTAMP:20260420T132934Z
DTSTART:20230204T180000
LOCATION:Southlake Texas
SEQUENCE:0
SUMMARY:Berets Cooking Class
UID:f9f789ac-2ea8-45e3-971a-614f959aa276
END:VEVENT
END:VCALENDAR
