BEGIN:VCALENDAR
PRODID:-//github.com/rianjs/ical.net//NONSGML ical.net 4.0//EN
VERSION:2.0
BEGIN:VEVENT
DESCRIPTION:Details:\nhttps://bbyo.org/bbyo-near-you/regions/north-florida
 -region/b-yachad-chalutzim-adventure-island-celebration
DTEND:20230521T160000
DTSTAMP:20260425T235215Z
DTSTART:20230521T100000
LOCATION:Tampa Florida
SEQUENCE:0
SUMMARY:B'Yachad & Chalutzim Adventure Island Celebration
UID:8253f5b8-19dc-4c76-9ec3-76c841f3f9db
END:VEVENT
END:VCALENDAR
