BEGIN:VCALENDAR
PRODID:-//github.com/rianjs/ical.net//NONSGML ical.net 4.0//EN
VERSION:2.0
BEGIN:VEVENT
DESCRIPTION:Details:\nhttps://bbyo.org/bbyo-near-you/regions/delta-region/
 nash-bbyo-bowling
DTEND:20220306T180000
DTSTAMP:20260425T183358Z
DTSTART:20220306T163000
LOCATION:Kings Bowl
SEQUENCE:0
SUMMARY:Nash BBYO Bowling
UID:1de1cbdc-5943-456d-a481-bcf64f26a7ac
END:VEVENT
END:VCALENDAR
