BEGIN:VCALENDAR
PRODID:-//github.com/rianjs/ical.net//NONSGML ical.net 4.0//EN
VERSION:2.0
BEGIN:VEVENT
DESCRIPTION:Details:\nhttps://bbyo.org/bbyo-near-you/regions/liberty-regio
 n/liberty-kickoff-2016-(pc5005)
DTEND:20160911T203000
DTSTAMP:20260423T133826Z
DTSTART:20160911T173000
LOCATION:Spirit of Philadelphia
SEQUENCE:0
SUMMARY:Liberty - Kickoff 2016 - (PC5005)
UID:dd4b27fe-731d-4c20-ba70-5dad7c81ee36
END:VEVENT
END:VCALENDAR
