BEGIN:VCALENDAR
PRODID:-//github.com/rianjs/ical.net//NONSGML ical.net 4.0//EN
VERSION:2.0
BEGIN:VEVENT
DESCRIPTION:Details:\nhttps://bbyo.org/bbyo-near-you/regions/lonestar-regi
 on/ghc-azaa-week-5
DTEND:20181014T200000
DTSTAMP:20260421T120832Z
DTSTART:20181014T180000
LOCATION:Houston Texas
SEQUENCE:0
SUMMARY:GHC AZAA Week 5
UID:c3e6f1ca-1e57-4f2d-a5b3-a85999ab0259
END:VEVENT
END:VCALENDAR
