BEGIN:VCALENDAR
PRODID:-//github.com/rianjs/ical.net//NONSGML ical.net 4.0//EN
VERSION:2.0
BEGIN:VEVENT
DESCRIPTION:Details:\nhttps://bbyo.org/bbyo-near-you/regions/northern-regi
 on-east-dc-council/d-c-council-9th-grade-ice-cream-social\n\nSummary:\n9t
 h Graders ONLY!  Come meet other freshmen at this ice cream social taking
  place before the Kickoff Dance.  Both members and prospective members ar
 e welcome to attend.  If you come to the e
DTEND:20060916T200000
DTSTAMP:20260425T182814Z
DTSTART:20060916T190000
LOCATION:JCC of Greater Washington
SEQUENCE:0
SUMMARY:D.C. Council 9th Grade Ice Cream Social
UID:adb48781-c8b0-42d1-8eac-060dbc4b23a6
END:VEVENT
END:VCALENDAR
