BEGIN:VCALENDAR
PRODID:-//github.com/rianjs/ical.net//NONSGML ical.net 4.0//EN
VERSION:2.0
BEGIN:VEVENT
DESCRIPTION:Details:\nhttps://bbyo.org/bbyo-near-you/regions/greater-jerse
 y-region/ncaza-board-meeting
DTEND:20200921T203000
DTSTAMP:20260425T182937Z
DTSTART:20200921T190000
LOCATION:Livingston New Jersey
SEQUENCE:0
SUMMARY:NCAZA Board Meeting
UID:063a5c9e-efb9-4949-9098-05972b7ba716
END:VEVENT
END:VCALENDAR
