BEGIN:VCALENDAR
PRODID:-//github.com/rianjs/ical.net//NONSGML ical.net 4.0//EN
VERSION:2.0
BEGIN:VEVENT
DESCRIPTION:Details:\nhttps://bbyo.org/bbyo-near-you/regions/nassau-suffol
 k-region/nsr-rlti-2024
DTEND:20240922T160000
DTSTAMP:20260420T100509Z
DTSTART:20240922T110000
LOCATION:Commack New York
SEQUENCE:0
SUMMARY:NSR RLTI 2024
UID:88e35bbb-ff90-4221-8f3e-579989c6c89f
END:VEVENT
END:VCALENDAR
