BEGIN:VCALENDAR
PRODID:-//github.com/rianjs/ical.net//NONSGML ical.net 4.0//EN
VERSION:2.0
BEGIN:VEVENT
DESCRIPTION:Details:\nhttps://bbyo.org/bbyo-near-you/regions/wisconsin-reg
 ion/wi-oneg-2-8-19
DTEND:20190208T170000
DTSTAMP:20260422T202414Z
DTSTART:20190208T151500
LOCATION:BBYO Offices
SEQUENCE:0
SUMMARY:WI - Oneg - 2.8.19
UID:7c41f523-d3c1-478c-a9af-e6a6455afd17
END:VEVENT
END:VCALENDAR
