BEGIN:VCALENDAR
PRODID:-//github.com/rianjs/ical.net//NONSGML ical.net 4.0//EN
VERSION:2.0
BEGIN:VEVENT
DESCRIPTION:Details:\nhttps://bbyo.org/bbyo-near-you/regions/evergreen-reg
 ion/iltc-2021
DTEND:20210712T090000
DTSTAMP:20260425T183330Z
DTSTART:20210624T120000
LOCATION:Lake Como Pennsylvania
SEQUENCE:0
SUMMARY:ILTC 2021
UID:a05ab11c-d7a4-4b82-b36b-28a1d1f81f9d
END:VEVENT
END:VCALENDAR
