BEGIN:VCALENDAR
PRODID:-//github.com/rianjs/ical.net//NONSGML ical.net 4.0//EN
VERSION:2.0
BEGIN:VEVENT
DESCRIPTION:Details:\nhttps://bbyo.org/bbyo-near-you/regions/lake-ontario-
 region/hamentashen-baking\n\nSummary:\nCome bake Hamentashen that will be
  distributed to families in need this Purim
DTEND:20060308T200000
DTSTAMP:20260424T083703Z
DTSTART:20060308T180000
LOCATION:BBYO Office
SEQUENCE:0
SUMMARY:Hamentashen Baking
UID:1fa715ee-b549-422d-8ed1-a07106ea9894
END:VEVENT
END:VCALENDAR
