BEGIN:VCALENDAR
PRODID:-//github.com/rianjs/ical.net//NONSGML ical.net 4.0//EN
VERSION:2.0
BEGIN:VEVENT
DESCRIPTION:Details:\nhttps://bbyo.org/bbyo-near-you/regions/south-jersey-
 region/azaa-sunday-morning-football-(3)\n\nSummary:\nAZAA Season has retu
 rned! Make sure you reach out to your chapter Godol or Sgan for your chap
 ter schedule.\n\n9am- Marlcrest vs. Woodcrest\n10am- Masada vs. Chapel\n1
 1am- Woodcrest vs. Otzma\n\nTo
DTEND:20181021T120000
DTSTAMP:20260421T004037Z
DTSTART:20181021T090000
LOCATION:Katz JCC
SEQUENCE:0
SUMMARY:AZAA Sunday Morning Football
UID:f4d870c2-cda6-4f76-aa37-5735ea70df83
END:VEVENT
END:VCALENDAR
