BEGIN:VCALENDAR
PRODID:-//github.com/rianjs/ical.net//NONSGML ical.net 4.0//EN
VERSION:2.0
BEGIN:VEVENT
DESCRIPTION:Details:\nhttps://bbyo.org/bbyo-near-you/regions/north-texas-o
 klahoma-region/ruach-convention-steering-meeting-7
DTEND:20240324T160000
DTSTAMP:20260426T030659Z
DTSTART:20240324T150000
LOCATION:Anshei Torah
SEQUENCE:0
SUMMARY:Ruach Convention Steering Meeting #7
UID:0f061e1f-af3d-4689-9c08-c7ad9df6c02a
END:VEVENT
END:VCALENDAR
