BEGIN:VCALENDAR
PRODID:-//github.com/rianjs/ical.net//NONSGML ical.net 4.0//EN
VERSION:2.0
BEGIN:VEVENT
DESCRIPTION:Details:\nhttps://bbyo.org/bbyo-near-you/regions/miami-region/
 global-shabbat\n\nSummary:\nJoin Miami Region for Global Shabbat!
DTEND:20231208T200000
DTSTAMP:20260423T002247Z
DTSTART:20231208T180000
LOCATION:Miami Florida
SEQUENCE:0
SUMMARY:Global Shabbat
UID:151ef9b9-1151-4425-b1b1-14412c4310ee
END:VEVENT
END:VCALENDAR
