BEGIN:VCALENDAR
PRODID:-//github.com/rianjs/ical.net//NONSGML ical.net 4.0//EN
VERSION:2.0
BEGIN:VEVENT
DESCRIPTION:Details:\nhttps://bbyo.org/bbyo-near-you/regions/rocky-mountai
 n-region/rocky-mountain-region-fall-kickoff
DTEND:20220828T160000
DTSTAMP:20260423T020933Z
DTSTART:20220828T140000
LOCATION:Denver Zoo
SEQUENCE:0
SUMMARY:Rocky Mountain Region Fall Kickoff
UID:5fbafdd5-809b-49f1-b3ae-5a7714284171
END:VEVENT
END:VCALENDAR
