BEGIN:VCALENDAR
PRODID:-//github.com/rianjs/ical.net//NONSGML ical.net 4.0//EN
VERSION:2.0
BEGIN:VEVENT
DESCRIPTION:Details:\nhttps://bbyo.org/bbyo-near-you/regions/keystone-moun
 tain-region/regionals-convention\n\nSummary:\nCome celebrate an amazing y
 ear in KMR BBYO! During this convention we will celebrate the achievement
 s of our members and our regional board. You will get to listen to the St
 ate of the Region
DTEND:20190407T100000
DTSTAMP:20260422T124817Z
DTSTART:20190405T173000
LOCATION:pittsburgh Pennsylvania
SEQUENCE:0
SUMMARY:Regionals Convention
UID:3a036688-b462-46a7-8705-8276f8421ead
END:VEVENT
END:VCALENDAR
