BEGIN:VCALENDAR
PRODID:-//github.com/rianjs/ical.net//NONSGML ical.net 4.0//EN
VERSION:2.0
BEGIN:VEVENT
DESCRIPTION:Details:\nhttps://bbyo.org/bbyo-near-you/regions/mountain-regi
 on/utah-museum-of-contemporary-art-with-temple-har-sh
DTEND:20220227T163000
DTSTAMP:20260423T002129Z
DTSTART:20220227T150000
LOCATION:Salt Lake City Utah
SEQUENCE:0
SUMMARY:Utah Museum of Contemporary Art with Temple Har Shalom Youth Group
UID:524c1604-c8d2-4498-bf4e-16740701f17d
END:VEVENT
END:VCALENDAR
