BEGIN:VCALENDAR
PRODID:-//github.com/rianjs/ical.net//NONSGML ical.net 4.0//EN
VERSION:2.0
BEGIN:VEVENT
DESCRIPTION:Details:\nhttps://bbyo.org/bbyo-near-you/regions/greater-jerse
 y-region/gjhrr-kickoff-dance-2016-northern-bus-(pc-5000)\n\nSummary:\nWe 
 cannot wait to see you at GJHRR's Kickoff Dance! Jewish non-members are w
 elcome! \n\nThis bus leaves from Paramus in the parking lot in front of S
 ignature Leather on Route 17N.  Emails wi
DTEND:20161008T220000
DTSTAMP:20260423T202030Z
DTSTART:20161008T190000
LOCATION:Whippany JCC
SEQUENCE:0
SUMMARY:GJHRR Kickoff Dance 2016 NORTHERN BUS (PC 5000)
UID:9979aa55-2510-4756-910e-128e3950fac0
END:VEVENT
END:VCALENDAR
