BEGIN:VCALENDAR
PRODID:-//github.com/rianjs/ical.net//NONSGML ical.net 4.0//EN
VERSION:2.0
BEGIN:VEVENT
DESCRIPTION:Details:\nhttps://bbyo.org/bbyo-near-you/regions/central-regio
 n-west/crw-regional-elections
DTEND:20220424T170000
DTSTAMP:20260422T113526Z
DTSTART:20220424T100000
LOCATION:South San Francisco California
SEQUENCE:0
SUMMARY:CRW Regional Elections
UID:20698ce9-b7da-4218-ab87-8730e85b64f8
END:VEVENT
END:VCALENDAR
