BEGIN:VCALENDAR
PRODID:-//github.com/rianjs/ical.net//NONSGML ical.net 4.0//EN
VERSION:2.0
BEGIN:VEVENT
DESCRIPTION:Details:\nhttps://bbyo.org/bbyo-near-you/regions/greater-jerse
 y-region/gjhrr-mit-convention
DTEND;VALUE=DATE:20180304
DTSTAMP:20260422T202549Z
DTSTART;VALUE=DATE:20180302
LOCATION:
SEQUENCE:0
SUMMARY:GJHRR MIT Convention
UID:4bbba77e-3e8f-4c57-a0e0-428e5956c49f
END:VEVENT
END:VCALENDAR
