BEGIN:VCALENDAR
PRODID:-//github.com/rianjs/ical.net//NONSGML ical.net 4.0//EN
VERSION:2.0
BEGIN:VEVENT
DESCRIPTION:Details:\nhttps://bbyo.org/bbyo-near-you/regions/pacific-weste
 rn-region/pwrs-2023-2024-yearbook-sale\n\nSummary:\nPurchase the first-ev
 er regional yearbook since 2015 to remember the PWR 2023-2024 season!
DTEND:20240420T130000
DTSTAMP:20260425T200425Z
DTSTART:20240420T120000
LOCATION:Virtual Sale with them being passed out first at Spring Con!
SEQUENCE:0
SUMMARY:PWRs 2023-2024 Yearbook Sale
UID:a4330972-a068-4675-931e-9791dd74cc34
END:VEVENT
END:VCALENDAR
