BEGIN:VCALENDAR
PRODID:-//github.com/rianjs/ical.net//NONSGML ical.net 4.0//EN
VERSION:2.0
BEGIN:VEVENT
DESCRIPTION:Details:\nhttps://bbyo.org/bbyo-near-you/regions/rocky-mountai
 n-region/boulder-jewish-festival
DTEND:20060611T170000
DTSTAMP:20260419T123125Z
DTSTART:20060611T110000
LOCATION:Boulder
SEQUENCE:0
SUMMARY:Boulder Jewish Festival
UID:770723e2-949e-40b2-ace7-9ecb018362c9
END:VEVENT
END:VCALENDAR
