BEGIN:VCALENDAR
PRODID:-//github.com/rianjs/ical.net//NONSGML ical.net 4.0//EN
VERSION:2.0
BEGIN:VEVENT
DESCRIPTION:Details:\nhttps://bbyo.org/bbyo-near-you/regions/connecticut-v
 alley-region/connecticut-valley-region-kickoff
DTEND:20231014T230000
DTSTAMP:20260423T214737Z
DTSTART:20231014T200000
LOCATION:JCC of Greater New Haven
SEQUENCE:0
SUMMARY:Connecticut Valley Region Kickoff
UID:0e5a4a34-7cc5-44a5-93dd-4baf54997573
END:VEVENT
END:VCALENDAR
